BEGIN:VCALENDAR
VERSION:2.0
PRODID:-//Complete Race Solutions - ECPv6.15.20//NONSGML v1.0//EN
CALSCALE:GREGORIAN
METHOD:PUBLISH
X-ORIGINAL-URL:https://www.completerace.com/site
X-WR-CALDESC:Events for Complete Race Solutions
REFRESH-INTERVAL;VALUE=DURATION:PT1H
X-Robots-Tag:noindex
X-PUBLISHED-TTL:PT1H
BEGIN:VTIMEZONE
TZID:America/New_York
BEGIN:DAYLIGHT
TZOFFSETFROM:-0500
TZOFFSETTO:-0400
TZNAME:EDT
DTSTART:20160313T070000
END:DAYLIGHT
BEGIN:STANDARD
TZOFFSETFROM:-0400
TZOFFSETTO:-0500
TZNAME:EST
DTSTART:20161106T060000
END:STANDARD
BEGIN:DAYLIGHT
TZOFFSETFROM:-0500
TZOFFSETTO:-0400
TZNAME:EDT
DTSTART:20170312T070000
END:DAYLIGHT
BEGIN:STANDARD
TZOFFSETFROM:-0400
TZOFFSETTO:-0500
TZNAME:EST
DTSTART:20171105T060000
END:STANDARD
BEGIN:DAYLIGHT
TZOFFSETFROM:-0500
TZOFFSETTO:-0400
TZNAME:EDT
DTSTART:20180311T070000
END:DAYLIGHT
BEGIN:STANDARD
TZOFFSETFROM:-0400
TZOFFSETTO:-0500
TZNAME:EST
DTSTART:20181104T060000
END:STANDARD
BEGIN:DAYLIGHT
TZOFFSETFROM:-0500
TZOFFSETTO:-0400
TZNAME:EDT
DTSTART:20190310T070000
END:DAYLIGHT
BEGIN:STANDARD
TZOFFSETFROM:-0400
TZOFFSETTO:-0500
TZNAME:EST
DTSTART:20191103T060000
END:STANDARD
BEGIN:DAYLIGHT
TZOFFSETFROM:-0500
TZOFFSETTO:-0400
TZNAME:EDT
DTSTART:20200308T070000
END:DAYLIGHT
BEGIN:STANDARD
TZOFFSETFROM:-0400
TZOFFSETTO:-0500
TZNAME:EST
DTSTART:20201101T060000
END:STANDARD
BEGIN:DAYLIGHT
TZOFFSETFROM:-0500
TZOFFSETTO:-0400
TZNAME:EDT
DTSTART:20210314T070000
END:DAYLIGHT
BEGIN:STANDARD
TZOFFSETFROM:-0400
TZOFFSETTO:-0500
TZNAME:EST
DTSTART:20211107T060000
END:STANDARD
BEGIN:DAYLIGHT
TZOFFSETFROM:-0500
TZOFFSETTO:-0400
TZNAME:EDT
DTSTART:20220313T070000
END:DAYLIGHT
BEGIN:STANDARD
TZOFFSETFROM:-0400
TZOFFSETTO:-0500
TZNAME:EST
DTSTART:20221106T060000
END:STANDARD
BEGIN:DAYLIGHT
TZOFFSETFROM:-0500
TZOFFSETTO:-0400
TZNAME:EDT
DTSTART:20230312T070000
END:DAYLIGHT
BEGIN:STANDARD
TZOFFSETFROM:-0400
TZOFFSETTO:-0500
TZNAME:EST
DTSTART:20231105T060000
END:STANDARD
BEGIN:DAYLIGHT
TZOFFSETFROM:-0500
TZOFFSETTO:-0400
TZNAME:EDT
DTSTART:20240310T070000
END:DAYLIGHT
BEGIN:STANDARD
TZOFFSETFROM:-0400
TZOFFSETTO:-0500
TZNAME:EST
DTSTART:20241103T060000
END:STANDARD
END:VTIMEZONE
BEGIN:VEVENT
DTSTART;TZID=America/New_York:20230415T100000
DTEND;TZID=America/New_York:20230415T130000
DTSTAMP:20260422T224101
CREATED:20221231T161007Z
LAST-MODIFIED:20221231T164904Z
UID:8125-1681552800-1681563600@www.completerace.com
SUMMARY:Wolfe's Run 10K
DESCRIPTION:As the days grow longer\, the training grows stronger and just in time to test your legs and stamina in the third leg of  Complete Race Solutions trail triple crown series\, the Wolfe’s Run 10K !! \n    Once again we will honor the memory of King of the Mountain’s George Mattera who left us in 2021. We lost a great friend and race director Partner earlier this year . In addition to our traditional third leg 10K\, Matt Lebow and the King of the Mountain team will be holding a memorial 5K trail walk and a 5-7 mile mountain bike ride in memorial as hiking and biking were a passion of George’s. The trail walk and mountain bike proceeds will go to a college fund established in his name for his two daughters. \n     The event is to be held at Wolfe’s Pond Park\, Staten Island\, NY.  Come experience the woods\, the trails\, the pond and the clear ocean views. Welcome the season of Spring which will be in full bloom as you run\, bike or hike hard as we remember  George . \nAdditionally\, if you register for the run you are welcome to join the hike or ride also. \n    Join us on April 15th at 10am and as always \, Don’t You Miss This new Annual tradition !!! \nRegister Now
URL:https://www.completerace.com/site/event/wolfes-run-10k-6/
LOCATION:Wolfe’s Pond Park\, 420 Cornelia Ave\, Staten Island\, NY\, 10312\, United States
CATEGORIES:Trail Triple Crown
END:VEVENT
BEGIN:VEVENT
DTSTART;TZID=America/New_York:20230212T100000
DTEND;TZID=America/New_York:20230212T120000
DTSTAMP:20260422T224101
CREATED:20221231T164056Z
LAST-MODIFIED:20221231T164736Z
UID:8134-1676196000-1676203200@www.completerace.com
SUMMARY:Valentine's Day 5K
DESCRIPTION:Now that life is slowly returning to normal\, fall in love with running again !!! The Valentine Days 5k run and one mile walk return to Conference House Park\, Staten Island \, NY as we honor the late great Bobby Guidera. \n     Come join the Guidera family on Sunday \, February 12th as we celebrate the life of an amazing father\, grandfather\, husband and truly accomplished Staten Island running Icon who passed 3 years ago. \n      This race will serve as the second leg of the Complete Race Solution’s Trail Triple Crown race series. The first leg will be the Resolution 4 mile run at Bloomingdale Park on January 14th and the final leg will be the Wolfe’s Run 10K honoring George Mattera  on April 15th. As always \, Don’t You Miss It !!!! \nRegister Now
URL:https://www.completerace.com/site/event/valentines-day-5k-5/
LOCATION:Conference House Park\, 7455 Hylan Boulevard\, Staten Island\, 10307\, United States
CATEGORIES:Trail Triple Crown
END:VEVENT
BEGIN:VEVENT
DTSTART;TZID=America/New_York:20230129T100000
DTEND;TZID=America/New_York:20230129T120000
DTSTAMP:20260422T224101
CREATED:20221231T164409Z
LAST-MODIFIED:20230113T165620Z
UID:8136-1674986400-1674993600@www.completerace.com
SUMMARY:Resolution Run 4 Miler
DESCRIPTION:Happy New Year ! Complete Race Solutions is proud to present the first race of the 2023 Trail Triple Crown\, the Resolution Run 4 Miler. \nBeautiful woods to run through with winding streams and challenging pathways to the finish line in Bloomingdale Park. Located on the South Shore of Staten Island this park managed by the NYC Parks department is a hidden jewel. \nThis is the first leg of Complete Race Solutions Annual Trail Triple Crown\, followed by the February Valentine’s Day 5K and the April final leg\, the Wolfe’s Run 10K. Start the new year off right\, overall and age group awards\, refreshments\, music and good times. \nIf you are going to run all 3 of the Trail Triple Crown Series register now and get a 10% additional discount. \nRegister for the Full Triple Crown Here \nPart of your race entry fee will benefit “Port Richmond CERT“ \nThe Community Emergency Response Team (CERT) Program educates people about disaster preparedness for hazards that may impact their area and trains them in basic disaster response skills\, such as fire safety\, light search and rescue\, team organization\, and disaster medical operations. \n  \nRegister Now
URL:https://www.completerace.com/site/event/resolution-run-4-miler-3/
LOCATION:Bloomingdale Park\, Ramona Ave & Lenevar Ave\, Staten Island\, NY\, 10309\, United States
CATEGORIES:Trail Triple Crown
END:VEVENT
BEGIN:VEVENT
DTSTART;TZID=America/New_York:20220416T100000
DTEND;TZID=America/New_York:20220416T120000
DTSTAMP:20260422T224101
CREATED:20211113T192018Z
LAST-MODIFIED:20211116T160947Z
UID:7795-1650103200-1650110400@www.completerace.com
SUMMARY:Wolfes Run 10K
DESCRIPTION:Register Now \n   As the days grow longer\, the training grows stronger and just in time to test your legs and stamina in the ultimate third leg of the trail triple crown series\, the Wolfe’s Run 10K !! \n    To be held at Wolfe’s Pond Park\, Staten Island\, NY\,  come experience the woods\, the trails\, the pond and the clear ocean views. Welcome the season of Spring which will be in full bloom as you run hard to an amazing finish. \n    Join us on April 16th at 10am and as always \, Don’t You Miss It !!!
URL:https://www.completerace.com/site/event/wolfes-run-10k-5/
LOCATION:Wolfe’s Pond Park\, 420 Cornelia Ave\, Staten Island\, NY\, 10312\, United States
CATEGORIES:Trail Triple Crown
END:VEVENT
BEGIN:VEVENT
DTSTART;TZID=America/New_York:20220305T100000
DTEND;TZID=America/New_York:20220305T120000
DTSTAMP:20260422T224101
CREATED:20211106T191733Z
LAST-MODIFIED:20220124T220954Z
UID:7785-1646474400-1646481600@www.completerace.com
SUMMARY:Resolution Run 4 Miler 2022
DESCRIPTION:Register Now \nComplete Race Solutions is proud to present the first race of the 2022 Trail Triple Crown\, the Resolution Run 4 Miler. \nBeautiful woods to run through with winding streams and challenging pathways to the finish line in Bloomingdale Park. Located on the South Shore of Staten Island this park managed by the NYC Parks department is a hidden jewel. \nThis is the first leg of Complete Race Solutions Annual Trail Triple Crown\, followed by the February Valentine’s Day 5K and the April final leg\, the Wolfe’s Run 10K. Start the new year off right\, overall and age group awards\, refreshments\, music and good times. \nPart of your race entry fee will benefit “Port Richmond CERT“ \nThe Community Emergency Response Team (CERT) Program educates people about disaster preparedness for hazards that may impact their area and trains them in basic disaster response skills\, such as fire safety\, light search and rescue\, team organization\, and disaster medical operations.
URL:https://www.completerace.com/site/event/resolution-run-4-miler-2022/
LOCATION:Bloomingdale Park\, Ramona Ave & Lenevar Ave\, Staten Island\, NY\, 10309\, United States
CATEGORIES:Trail Triple Crown
END:VEVENT
BEGIN:VEVENT
DTSTART;TZID=America/New_York:20220213T100000
DTEND;TZID=America/New_York:20220213T120000
DTSTAMP:20260422T224101
CREATED:20211113T191651Z
LAST-MODIFIED:20211116T160414Z
UID:7793-1644746400-1644753600@www.completerace.com
SUMMARY:Valentine's Day 5K 2022
DESCRIPTION:Register Now \nNow that life is slowly returning to normal\, fall in love with running again !!! The Valentine Days 5K run and one mile walk return to Conference House Park\, Staten Island \, NY as we honor the late great Bobby Guidera. \n     Come join the Guidera family on Sunday \, February 13th as we celebrate the life of an amazing father\, grandfather\, husband and truly accomplished Staten Island running Icon who passed 2 years ago. \n      This race will serve as the second leg of the Complete Race Solution’s Trail Triple Crown race series. The first leg will be the Resolution 4 mile run at Bloomingdale Park on January 15th and the final leg will be the Wolfe’s Run 10K on April 16th. As always \, Don’t You Miss It !!!!
URL:https://www.completerace.com/site/event/valentines-day-5k-2022/
LOCATION:Conference House Park\, 7455 Hylan Boulevard\, Staten Island\, 10307\, United States
CATEGORIES:Trail Triple Crown
END:VEVENT
BEGIN:VEVENT
DTSTART;TZID=America/New_York:20220115T080000
DTEND;TZID=America/New_York:20220416T120000
DTSTAMP:20260422T224101
CREATED:20211113T192515Z
LAST-MODIFIED:20211116T160134Z
UID:7797-1642233600-1650110400@www.completerace.com
SUMMARY:Trail Triple Crown Series
DESCRIPTION:Register Now \n     Complete Race Solutions moves ahead in 2022 with the return of the annual Trail Triple Crown Series in Staten Island\, NY. If you like nature and amazing views of 3 wonderful NYC parks and of course running this series is for you. \n     First up the Resolution Run 4 Miler at Bloomingdale park on Saturday January 15th. A 4 miler with a mix of open park and deep woodlands and stream crossings. Make a resolution to challenge yourself on this opening day.  The roaming Deer and Chipmunks will cheer you on !  \n     Second up\, the Valentine’s Day 5K honoring our late friend and CRS supporter\, Bobby Guidera. To be held at historical Conference House Park on Sunday February 13th\, Wear your best Red running gear and share the love that day with the Guidera family who are our guest hosts. A mix of park pathways and ocean view trails will amaze. \n     Last but not least\, the finale\, the test of champions\, the Wolfes Run 10K\, at Wolfes Pond Park on Saturday April 16th. A two loop course will technically challenge your abilities and the scenery will challenge your senses. This course has it all\, open fields\, wood trails\, a bay view on a small bit of the beach and barking dog park pooches to cheer you on !! \n      Resolve to do all three races\, which will be scored cumulatively. CRS will bring back our popular awards luncheon in June for overall and age group winners. Sign up for all 3 and receive a discount and save some cash\, which is just as good as money.                                          \nTreat yourself to an amazing race series and as always…. don’t you miss it !!
URL:https://www.completerace.com/site/event/trail-triple-crown-series/
LOCATION:NY
CATEGORIES:Trail Triple Crown
END:VEVENT
BEGIN:VEVENT
DTSTART;TZID=America/New_York:20200215T100000
DTEND;TZID=America/New_York:20200215T120000
DTSTAMP:20260422T224101
CREATED:20200105T230503Z
LAST-MODIFIED:20200105T230503Z
UID:6993-1581760800-1581768000@www.completerace.com
SUMMARY:Valentine's Day 5K
DESCRIPTION:REGISTER NOW \n\nThe mind commands our garmin watch\, the timers\, the training logs for our legs are the digital record in our sport. However\, Our Hearts are the true record-keepers of personal feelings\, emotions and honors that the mind learns to understand when we venture out to run. \nComplete Race Solutions is once again proud to present the 2020 Valentine’s Day 5K at the landmarked Conference House Park at the Southern most point of scenic Staten Island NY. \nCome this February 15th \, 10am and put your heart and legs to the test in the second leg of the 2020 Trail Triple Crown Series. A special day as we honor our great Complete Race Team associate and course designer\, Bobby Guidera\, who sadly passed on Christmas Eve as we observe a moment of silence in his memory. \nTeam up with you wife\, husband or partner in our Pairs competition as we see all this amazing park has to offer. Open pathways\, woods\, a beach view and see American Revolutionary landmarks\, the Conference House\, the Biddle\, Ward and Rutan-Beckett House.
URL:https://www.completerace.com/site/event/valentines-day-5k-3/
LOCATION:Conference House Park\, 7455 Hylan Boulevard\, Staten Island\, 10307\, United States
CATEGORIES:Trail Triple Crown
END:VEVENT
BEGIN:VEVENT
DTSTART;TZID=America/New_York:20190216T050000
DTEND;TZID=America/New_York:20190216T070000
DTSTAMP:20260422T224101
CREATED:20181225T024117Z
LAST-MODIFIED:20181225T024323Z
UID:6156-1550293200-1550300400@www.completerace.com
SUMMARY:Valentine's Day 5K
DESCRIPTION:REGISTER NOW \n\nFebruary contains the coldest days but runners have the warmest Hearts. Put those strong Hearts to the test at the 2nd leg of the Trail Triple Crown (TTC) series\, the Valentine’s Day 5k. \nCozy up with a friend\, family\, partner or lover in the Pairs competition or run with the one you love the most\, You . Run through open pathways\, woods to a beach view \, an actual beach portion and a technical trail end to the finish. \nAS always\, get you beloved moneys worth with great swag\, top 3 awards\, food and beverages\, the 2nd piece of the TTC finishers medal\, great music and the Velvet Fog serenading you to the finish\,  you gotta Love it. \nSnuggle up to the early bird discount and save cash\, which is just as good as money ! Complete Race Team members can save even more. \nWhere: Beautiful Conference House Park\, the southern most point in Staten Island and NY State. \nWhen: February 16th\, 10am. \nAnd as always\, Don’t You Miss It !!!!! \nEach runner receives a custom designed technical t-shirt while supplies last. Shirts are guaranteed to all runners who register by January 26 2019 \n** RACE IS CHIP TIMED BY Complete Race Solutions ** \nEVENT IS RAIN OR SHINE | NO REFUNDS \n  \n  \n\nREGISTER NOW
URL:https://www.completerace.com/site/event/valentines-day-5k-2/
LOCATION:Conference House Park\, 7455 Hylan Boulevard\, Staten Island\, 10307\, United States
CATEGORIES:Trail Triple Crown
END:VEVENT
BEGIN:VEVENT
DTSTART;TZID=America/New_York:20190119T050000
DTEND;TZID=America/New_York:20190119T070000
DTSTAMP:20260422T224101
CREATED:20181124T064703Z
LAST-MODIFIED:20190118T071225Z
UID:6005-1547874000-1547881200@www.completerace.com
SUMMARY:Resolution Run 4 Miler 2019
DESCRIPTION:REGISTER NOW \n\n\nComplete Race Solutions presents the inaugural race of the 2019 season\, the Resolution Run 4 Miler.\n\nResolve to run through the winding streams and through the dense woods to the finish line in Bloomingdale Park in the south shore of Staten Island. \nThis is the first leg of Complete Race Solutions Annual Trail Triple Crown\, followed by the February Valentine’s Day 5K and the final leg\, Aprils Wolfe’s Run 10K. \nStart your year off right\, overall and age group awards\, refreshments\, music and good times. \nPart of your race entry fee will benefit “Port Richmond CERT“ \nThe Community Emergency Response Team (CERT) Program educates people about disaster preparedness for hazards that may impact their area and trains them in basic disaster response skills\, such as fire safety\, light search and rescue\, team organization\, and disaster medical operations. \n  \n\nREGISTER NOW
URL:https://www.completerace.com/site/event/resolution-run-4-miler-2019/
LOCATION:Bloomingdale Park\, Ramona Ave & Lenevar Ave\, Staten Island\, NY\, 10309\, United States
CATEGORIES:Trail Triple Crown
END:VEVENT
BEGIN:VEVENT
DTSTART;TZID=America/New_York:20180613T150000
DTEND;TZID=America/New_York:20180613T180000
DTSTAMP:20260422T224101
CREATED:20180514T080253Z
LAST-MODIFIED:20180514T080315Z
UID:5091-1528902000-1528912800@www.completerace.com
SUMMARY:Staten Island Trail Triple Crown Dinner
DESCRIPTION:BUY TICKETS NOW \nComing your way\, the Staten Island Trail Triple Crown dinner to celebrate the 2nd Annual Staten Island Trail Triple Crown Series! \nBe part of history as Complete Race Solutions invites you\, your friends and family out for an evening to celebrate the overall winners and those victorious in the age group divisions. \nFeast on your trail racing memories of the three beautiful natural island locations. \nThe recollection of jumping streams at the Resolution Run at Bloomingdale Park\, crisp breeze at the Valentine’s Day race at the Conference House grounds and even amazing ocean views at the Wolfe’s Challenge at  Wolfe’s Pond Park. \nYour hosts will be the Complete Race Solutions team. \nWhere: The Historic Old Bermuda Inn\, 301 Veterans Road West\,\nWhen: Wednesday June 13th from 7-10 pm. \nJoin us for a night of fun and frivolity\, trade in those muddy trail shoes and gear for your Thursday party clothes as we honor our Shining Trail warriors. Don’t you miss it !!!! \n  \nIf you wish to pay by check please see below. \nAdult: $55.00\nYouth (10 Years and Under): $45.00 \nMake check payable to:\nComplete Race Solutions\, LLC. \nMail check to:\nTTC Dinner\n82 Penn Avenue\nStaten Island\, NY 10306 \nBUY TICKETS NOW
URL:https://www.completerace.com/site/event/staten-island-trail-triple-crown-dinner-2/
LOCATION:The Historic Old Bermurda Inn\, 301 Veterans Road West\, Staten Island\, NY\, 10309\, United States
CATEGORIES:Trail Triple Crown
END:VEVENT
BEGIN:VEVENT
DTSTART;TZID=America/New_York:20180414T060000
DTEND;TZID=America/New_York:20180414T090000
DTSTAMP:20260422T224101
CREATED:20171205T050930Z
LAST-MODIFIED:20180301T202305Z
UID:3546-1523685600-1523696400@www.completerace.com
SUMMARY:Wolfe's Run 10K
DESCRIPTION:Early Bird registration has closed. \nA portion of the proceeds from this race will be donated to:\n \n\n\n\nREGISTER NOW \n\n\nRegistration Schedule and Prices: \nEarly Bird 2/1/2018 – 2/28/2018:\n Youth Runner: $25.00\n Runner: $30.00\n Walker: $20.00 \nPre-Registration 3/1/2018 – 4/13/2018:\nYouth: $30.00\nRunner: $35.00\nWalker: $25.00 \nRace Day 4/14/2018:\nYouth: $40.00\nRunner: $45.00\nWalker: $35.00
URL:https://www.completerace.com/site/event/wolfes-run-10k/
LOCATION:Wolfe’s Pond Park\, 420 Cornelia Ave\, Staten Island\, NY\, 10312\, United States
CATEGORIES:Trail Triple Crown
END:VEVENT
BEGIN:VEVENT
DTSTART;TZID=America/New_York:20180210T050000
DTEND;TZID=America/New_York:20180210T070000
DTSTAMP:20260422T224101
CREATED:20171205T050416Z
LAST-MODIFIED:20180115T004349Z
UID:3544-1518238800-1518246000@www.completerace.com
SUMMARY:Valentine's Day 5K
DESCRIPTION:Portions of the proceeds for this event will be donated to: \n \n 
URL:https://www.completerace.com/site/event/valentines-day-5k/
LOCATION:Conference House Park\, 7455 Hylan Boulevard\, Staten Island\, 10307\, United States
CATEGORIES:Trail Triple Crown
END:VEVENT
BEGIN:VEVENT
DTSTART;TZID=America/New_York:20170914T150000
DTEND;TZID=America/New_York:20170914T180000
DTSTAMP:20260422T224101
CREATED:20170808T041805Z
LAST-MODIFIED:20170808T043624Z
UID:2671-1505401200-1505412000@www.completerace.com
SUMMARY:Staten Island Trail Triple Crown Dinner
DESCRIPTION:
URL:https://www.completerace.com/site/event/staten-island-trail-triple-crown-dinner/
LOCATION:The Historic Old Bermurda Inn\, 301 Veterans Road West\, Staten Island\, NY\, 10309\, United States
CATEGORIES:Trail Triple Crown
END:VEVENT
END:VCALENDAR