BEGIN:VCALENDAR
VERSION:2.0
PRODID:-//Complete Race Solutions - ECPv6.15.20//NONSGML v1.0//EN
CALSCALE:GREGORIAN
METHOD:PUBLISH
X-WR-CALNAME:Complete Race Solutions
X-ORIGINAL-URL:https://www.completerace.com/site
X-WR-CALDESC:Events for Complete Race Solutions
REFRESH-INTERVAL;VALUE=DURATION:PT1H
X-Robots-Tag:noindex
X-PUBLISHED-TTL:PT1H
BEGIN:VTIMEZONE
TZID:America/New_York
BEGIN:DAYLIGHT
TZOFFSETFROM:-0500
TZOFFSETTO:-0400
TZNAME:EDT
DTSTART:20180311T070000
END:DAYLIGHT
BEGIN:STANDARD
TZOFFSETFROM:-0400
TZOFFSETTO:-0500
TZNAME:EST
DTSTART:20181104T060000
END:STANDARD
BEGIN:DAYLIGHT
TZOFFSETFROM:-0500
TZOFFSETTO:-0400
TZNAME:EDT
DTSTART:20190310T070000
END:DAYLIGHT
BEGIN:STANDARD
TZOFFSETFROM:-0400
TZOFFSETTO:-0500
TZNAME:EST
DTSTART:20191103T060000
END:STANDARD
BEGIN:DAYLIGHT
TZOFFSETFROM:-0500
TZOFFSETTO:-0400
TZNAME:EDT
DTSTART:20200308T070000
END:DAYLIGHT
BEGIN:STANDARD
TZOFFSETFROM:-0400
TZOFFSETTO:-0500
TZNAME:EST
DTSTART:20201101T060000
END:STANDARD
END:VTIMEZONE
BEGIN:VEVENT
DTSTART;TZID=America/New_York:20190428T060000
DTEND;TZID=America/New_York:20190428T090000
DTSTAMP:20260423T063815
CREATED:20190213T221352Z
LAST-MODIFIED:20190213T221352Z
UID:6424-1556431200-1556442000@www.completerace.com
SUMMARY:Matt's Race
DESCRIPTION:REGISTER NOW \nSell tickets online with Ticketleap\n**MATT’S RACE**\nPresented by\nENGINE 161/LADDER 81 & ENGINE 211/LADDER 119\nTogether with the Staten Island Athletic Club \nIn memory of Lt. Gordon “Matt” Ambelas\, who died in the line of duty on July 5\, 2014\n \n  \nSUNDAY\, APRIL 28\, 2019 – 5K 10:00 AM \nClove Lakes Park\, Staten Island\, NY \nIn front of the Old Stone House on Clove Road \nPost-Race Party at Marine Corps. League – 46 Ontario Ave. SI (Across from Clove Lakes Park) \n($10.00 post-race party fee for non-runners) \nRunning awards to: Overall Top 3 Male & Female. Age groups: top 3 in each of the following age groups (male & female): 14 & under\, 15-19\, 20-29\, 30-39\, 40-49\, 50-59\, 60-69\, 70-79\, 80+\, FD individual\, FD team\, Clydesdale & Athena \n1st Leg of FF James Halverson Award presented to: Top FDNY finisher based on combined times from  Matt’s Race\, Marty Egan Run & The Celic Run \nEntry Fees: \nPre-entry fee: $20.00             Race Day: $25.00           Kids 14 and under $15.00 (race day $20) \nPre-race pick up at The Local (formerly Pepper Jack Grill)\, 316 Manor Road\, Thursday\, April 25\, 7:00-9:00 PM \n  \nREGISTER NOW \nSell tickets online with Ticketleap
URL:https://www.completerace.com/site/event/matts-race/
LOCATION:Clove Lakes Park\, 1150 Clove Road\, Staten Island\, NY\, 10301\, United States
CATEGORIES:Matt's Race
END:VEVENT
END:VCALENDAR