BEGIN:VCALENDAR
VERSION:2.0
PRODID:-//Complete Race Solutions - ECPv6.15.20//NONSGML v1.0//EN
CALSCALE:GREGORIAN
METHOD:PUBLISH
X-ORIGINAL-URL:https://www.completerace.com/site
X-WR-CALDESC:Events for Complete Race Solutions
REFRESH-INTERVAL;VALUE=DURATION:PT1H
X-Robots-Tag:noindex
X-PUBLISHED-TTL:PT1H
BEGIN:VTIMEZONE
TZID:America/New_York
BEGIN:DAYLIGHT
TZOFFSETFROM:-0500
TZOFFSETTO:-0400
TZNAME:EDT
DTSTART:20160313T070000
END:DAYLIGHT
BEGIN:STANDARD
TZOFFSETFROM:-0400
TZOFFSETTO:-0500
TZNAME:EST
DTSTART:20161106T060000
END:STANDARD
BEGIN:DAYLIGHT
TZOFFSETFROM:-0500
TZOFFSETTO:-0400
TZNAME:EDT
DTSTART:20170312T070000
END:DAYLIGHT
BEGIN:STANDARD
TZOFFSETFROM:-0400
TZOFFSETTO:-0500
TZNAME:EST
DTSTART:20171105T060000
END:STANDARD
BEGIN:DAYLIGHT
TZOFFSETFROM:-0500
TZOFFSETTO:-0400
TZNAME:EDT
DTSTART:20180311T070000
END:DAYLIGHT
BEGIN:STANDARD
TZOFFSETFROM:-0400
TZOFFSETTO:-0500
TZNAME:EST
DTSTART:20181104T060000
END:STANDARD
BEGIN:DAYLIGHT
TZOFFSETFROM:-0500
TZOFFSETTO:-0400
TZNAME:EDT
DTSTART:20190310T070000
END:DAYLIGHT
BEGIN:STANDARD
TZOFFSETFROM:-0400
TZOFFSETTO:-0500
TZNAME:EST
DTSTART:20191103T060000
END:STANDARD
BEGIN:DAYLIGHT
TZOFFSETFROM:-0500
TZOFFSETTO:-0400
TZNAME:EDT
DTSTART:20200308T070000
END:DAYLIGHT
BEGIN:STANDARD
TZOFFSETFROM:-0400
TZOFFSETTO:-0500
TZNAME:EST
DTSTART:20201101T060000
END:STANDARD
BEGIN:DAYLIGHT
TZOFFSETFROM:-0500
TZOFFSETTO:-0400
TZNAME:EDT
DTSTART:20210314T070000
END:DAYLIGHT
BEGIN:STANDARD
TZOFFSETFROM:-0400
TZOFFSETTO:-0500
TZNAME:EST
DTSTART:20211107T060000
END:STANDARD
BEGIN:DAYLIGHT
TZOFFSETFROM:-0500
TZOFFSETTO:-0400
TZNAME:EDT
DTSTART:20220313T070000
END:DAYLIGHT
BEGIN:STANDARD
TZOFFSETFROM:-0400
TZOFFSETTO:-0500
TZNAME:EST
DTSTART:20221106T060000
END:STANDARD
BEGIN:DAYLIGHT
TZOFFSETFROM:-0500
TZOFFSETTO:-0400
TZNAME:EDT
DTSTART:20230312T070000
END:DAYLIGHT
BEGIN:STANDARD
TZOFFSETFROM:-0400
TZOFFSETTO:-0500
TZNAME:EST
DTSTART:20231105T060000
END:STANDARD
BEGIN:DAYLIGHT
TZOFFSETFROM:-0500
TZOFFSETTO:-0400
TZNAME:EDT
DTSTART:20240310T070000
END:DAYLIGHT
BEGIN:STANDARD
TZOFFSETFROM:-0400
TZOFFSETTO:-0500
TZNAME:EST
DTSTART:20241103T060000
END:STANDARD
END:VTIMEZONE
BEGIN:VEVENT
DTSTART;TZID=America/New_York:20231104T090000
DTEND;TZID=America/New_York:20231104T150000
DTSTAMP:20260423T021112
CREATED:20231005T223941Z
LAST-MODIFIED:20240923T130422Z
UID:8284-1699088400-1699110000@www.completerace.com
SUMMARY:Conference House Endurance Challenge
DESCRIPTION:Register Now\n  \nComplete Race Solutions proudly presents the 2023 Conference House 6-Hour Endurance Challenge (CHEC). \nNow a mainstay on the running calendar on Staten Island\, join us on November 4th from 9:00 AM – 3:00 PM\, run as little or as much as you can of the 2-mile loop over the entire 6 hours of the challenge\, that’s up to you but we guarantee a great time. \nTo be held again at beautiful Conference House Park in Tottenville\, Staten Island\, NY  with scenic Trails\, along the woods with Ocean view pathways will stimulate your feet and senses. \nA great SI Half tune-up\, or make it your own NYC Marathon\, with recognition awards !! \nAwards for top 3 male and female finishers\, marathon distance finishers\, continue to collect challenge coins for lifetime distance completed 50K\, 50 Mile\, 100 Mile\, and every 100 miles after.  \nIf you have run our 6-hour races in the past\,  keep accruing miles toward those distance challenge coins.
URL:https://www.completerace.com/site/event/conference-house-endurance-challenge-4/
LOCATION:Conference House Park\, 7455 Hylan Boulevard\, Staten Island\, 10307\, United States
CATEGORIES:Conference House Endurance Challenge
END:VEVENT
BEGIN:VEVENT
DTSTART;TZID=America/New_York:20211009T080000
DTEND;TZID=America/New_York:20211009T140000
DTSTAMP:20260423T021112
CREATED:20210706T151906Z
LAST-MODIFIED:20210907T150308Z
UID:7304-1633766400-1633788000@www.completerace.com
SUMMARY:Conference House Endurance Challenge 2021
DESCRIPTION:REGISTER NOW \nSell tickets online with Ticketleap\n\n\nWe return with the Conference House Endurance Challenge (CHEC) on Saturday\, October 9\, 2021 from 8:00 AM to 2:00 PM. \nConference House Endurance Challenge is a 6 hour event. Run as much or as little as you want on a beautiful 2 mile loop at Conference House Park. Awards for top 3 male and female finishers\, marathon distance finishers\, continue to collect challenge coins for lifetime distance completed 50K\, 50 Mile\, 100 Mile and every 100 miles after. \nAll safety measures will be in full effect at sign up and at the start will be observed under the NYC official health guidelines. Refreshments served during and after the race with  commemorative shirts to each entrant. Sign up here or for more details : www.completerace.com. \nScenic Conference House Park\, trails in the woods\, ocean view pathways and wildlife will stimulate your feet and senses. If you are running a virtual Marathon this is the course for you. In addition to the camaraderie\, water stop and accurately marked and measured course take in the beauty of the Southern Tip of New York. \nDay of registration will be available for this event at a higher price. Race swag is not guaranteed for registrations received after September 24\, 2021 \nIf you’ve run our past 6 hour races\, keep accruing miles toward distance challenge coins. Don’t You Miss It !!!!!!
URL:https://www.completerace.com/site/event/conference-house-endurance-challenge-2021/
LOCATION:Conference House Park\, 7455 Hylan Boulevard\, Staten Island\, 10307\, United States
CATEGORIES:Conference House Endurance Challenge
END:VEVENT
BEGIN:VEVENT
DTSTART;TZID=America/New_York:20201101T080000
DTEND;TZID=America/New_York:20201101T140000
DTSTAMP:20260423T021112
CREATED:20201011T161358Z
LAST-MODIFIED:20201011T161642Z
UID:7192-1604217600-1604239200@www.completerace.com
SUMMARY:Conference House Endurance Challenge
DESCRIPTION:REGISTER NOW \nSell tickets online with Ticketleap\n\n\nGreat News ! NYC Parks has issued Complete Race Solutions a permit to return to Real Racing. We return with the Conference House Endurance Challenge (CHEC) on Sunday\, November 1\, 8 am to 2 pm with a 50 runner limit.\n\nConference House Endurance Challenge is a 6 hour event. Run as much or as little as you want on a beautiful 2 mile loop at Conference House Park. Awards for top 3 male and female finishers\, marathon distance finishers\, continue to collect challenge coins for lifetime distance completed 50K\, 50 Mile\, 100 Mile and every 100 miles. \nJoin us and other runners as we continue to inch towards normalcy. \nAll social distancing safety measures will be in full effect at sign up and at the start will be observed under the NYC official guidelines. Refreshments served during and after the race with  commemorative buffs to each entrant. Sign up here for more details : www.completerace.com. \nScenic Conference House Park\, trails in the woods\, ocean view pathways and wildlife will stimulate your feet and senses. Make it your own Marathon or Half\, with Marathon!! \nIf you’ve run our past 6 hour races continue\, keep accruing miles toward distance challenge coins. Don’t You Miss It !!!!!! \n  \nREGISTER NOW \nSell tickets online with Ticketleap
URL:https://www.completerace.com/site/event/conference-house-endurance-challenge-2/
LOCATION:Conference House Park\, 7455 Hylan Boulevard\, Staten Island\, 10307\, United States
CATEGORIES:Conference House Endurance Challenge
END:VEVENT
BEGIN:VEVENT
DTSTART;TZID=America/New_York:20191005T050000
DTEND;TZID=America/New_York:20191005T110000
DTSTAMP:20260423T021112
CREATED:20190723T230049Z
LAST-MODIFIED:20190912T173729Z
UID:6681-1570251600-1570273200@www.completerace.com
SUMMARY:Conference House Endurance Challenge 2019
DESCRIPTION:REGISTER NOW \nSell tickets online with Ticketleap\n\n\n\nWe have all regretted lost hours in our lives but here is a perfect use of time as Complete Race Solutions is proud to once again present the 2019 Conference House Endurance Challenge with a portion of the proceeds going to support Michaels Cause\, working to find a cure for Duchennes Muscular Dystrophy. https://michaelscause.org/ \nHeld this year on Saturday October 5th\, 9am-3pm\, run as little a one loop or run the entire 6 hours\, that’s up to you but we guarantee a great time\, beautiful scenery and our pre\, during and post race cookout and refreshments. Held again at beautiful Wolfe’s Pond Park due to construction at the equally beautiful Conference House Park . \nScenic Wolfe’s Pond\, trails in the woods\, ocean view pathways and wildlife will stimulate your feet and senses. A Great NYC Marathon and SI Half tuneup as well or just make it your own NYC Marathon or SI Half\, with Marathon and Half Marathon recognition awards !! If you have run our past 6 hour races continue keep accruing miles toward distance challenge coins. Don’t You Miss It !!!!!!
URL:https://www.completerace.com/site/event/conference-house-endurance-challenge-2019/
LOCATION:Wolfe’s Pond Park\, 420 Cornelia Ave\, Staten Island\, NY\, 10312\, United States
CATEGORIES:Conference House Endurance Challenge
END:VEVENT
BEGIN:VEVENT
DTSTART;TZID=America/New_York:20180922T050000
DTEND;TZID=America/New_York:20180922T110000
DTSTAMP:20260423T021112
CREATED:20180618T191051Z
LAST-MODIFIED:20180715T060044Z
UID:5162-1537592400-1537614000@www.completerace.com
SUMMARY:Conference House Endurance Challenge
DESCRIPTION:Registration is now open\n\nREGISTER NOW \nSell tickets online with Ticketleap\n\n  \nIt’s Trails and its a Festival !!!\n  \nSeptember 22nd is the date and the course is going to be great.\nIt’s Back\, the true test of endurance and self determination!! \nThe Conference House Hour Endurance Challenge is moving to Wolfe’s Pond Park this year as major construction is now underway at Conference House Park. \nThis year will have a 6 hour and a relay team division. Home of the final leg of  the Trail Triple Crown many of you know the unique beauty of the Wolfe’s Pond Park with water water everywhere\, tree covered trails and an Atlantic Ocean view. Plenty of Parking and facilities\, a great test of will and endurance and this year a Barbeque!! \nRelay teams can consistof between 2 and 5 runners. All team members must register and include their team name. \nCome spend the day and rack up  more challenge coin miles. Also a great way to rack up marathon training miles. \nThe challenge starts at 9:00 AM \nComplete Race Solutions hopes to see you there. Don’t you miss it !! \nWhat to expect at the event:\nAll runners will receive a dry-fit race shirt\nThe course will be fully marked\nFully stocked aid station (including: water\, snacks\, donuts\, bagels\, hot/cold beverages and more)\nRunner bag drop area\nMusic \n\nAwards\nTop 3 female and male distance runners\nTop 3 distance relay teams\nAll Individual registered participants completing Marathon distance \nSpecial Awards\nAny participant that completes the special distances over their lifetime in this challenge will receive a special medal for each milestone. Relay team membership is not counted in this award. Those milestones are as follows: \n50 km\n50 mi\n100 mi\n200 mi\n300 mi\n400 mi\n500 mi \n  \n** RACE IS CHIP TIMED BY Complete Race Solutions ** \nEVENT IS RAIN OR SHINE | NO REFUNDS
URL:https://www.completerace.com/site/event/conference-house-endurance-challenge/
CATEGORIES:Conference House Endurance Challenge
END:VEVENT
BEGIN:VEVENT
DTSTART;TZID=America/New_York:20170923T050000
DTEND;TZID=America/New_York:20170923T110000
DTSTAMP:20260423T021112
CREATED:20170711T031225Z
LAST-MODIFIED:20170828T173744Z
UID:1404-1506142800-1506164400@www.completerace.com
SUMMARY:Conference House Endurance Challenge
DESCRIPTION:  \nA portion of the proceeds will go to benefit: \nCorrections Officers Benevolent Association Widow and Children’s Fund. \n  \n 
URL:https://www.completerace.com/site/event/1404/
LOCATION:Conference House Park\, 7455 Hylan Boulevard\, Staten Island\, 10307\, United States
CATEGORIES:Conference House Endurance Challenge
END:VEVENT
END:VCALENDAR